BEGIN:VCALENDAR
VERSION:2.0
PRODID:-//Angler-Ortsgruppe Zeuthen I e.V. - ECPv6.15.20//NONSGML v1.0//EN
CALSCALE:GREGORIAN
METHOD:PUBLISH
X-ORIGINAL-URL:https://www.angelverein-zeuthen.de
X-WR-CALDESC:Veranstaltungen für Angler-Ortsgruppe Zeuthen I e.V.
REFRESH-INTERVAL;VALUE=DURATION:PT1H
X-Robots-Tag:noindex
X-PUBLISHED-TTL:PT1H
BEGIN:VTIMEZONE
TZID:Europe/Berlin
BEGIN:DAYLIGHT
TZOFFSETFROM:+0100
TZOFFSETTO:+0200
TZNAME:CEST
DTSTART:20250330T010000
END:DAYLIGHT
BEGIN:STANDARD
TZOFFSETFROM:+0200
TZOFFSETTO:+0100
TZNAME:CET
DTSTART:20251026T010000
END:STANDARD
BEGIN:DAYLIGHT
TZOFFSETFROM:+0100
TZOFFSETTO:+0200
TZNAME:CEST
DTSTART:20260329T010000
END:DAYLIGHT
BEGIN:STANDARD
TZOFFSETFROM:+0200
TZOFFSETTO:+0100
TZNAME:CET
DTSTART:20261025T010000
END:STANDARD
BEGIN:DAYLIGHT
TZOFFSETFROM:+0100
TZOFFSETTO:+0200
TZNAME:CEST
DTSTART:20270328T010000
END:DAYLIGHT
BEGIN:STANDARD
TZOFFSETFROM:+0200
TZOFFSETTO:+0100
TZNAME:CET
DTSTART:20271031T010000
END:STANDARD
END:VTIMEZONE
BEGIN:VEVENT
DTSTART;TZID=Europe/Berlin:20261211T190000
DTEND;TZID=Europe/Berlin:20261211T200000
DTSTAMP:20260421T153123
CREATED:20251222T154032Z
LAST-MODIFIED:20251222T154032Z
UID:547-1797015600-1797019200@www.angelverein-zeuthen.de
SUMMARY:Monatsversammlung
DESCRIPTION:
URL:https://www.angelverein-zeuthen.de/veranstaltungen/monatsversammlung-10/
LOCATION:Anglerheim\, Dorfaue 21\, Zeuthen\, 15738\, Deutschland
CATEGORIES:Mitgliederversammlungen
END:VEVENT
BEGIN:VEVENT
DTSTART;TZID=Europe/Berlin:20261212T130000
DTEND;TZID=Europe/Berlin:20261212T170000
DTSTAMP:20260421T153123
CREATED:20251222T154103Z
LAST-MODIFIED:20251222T154103Z
UID:549-1797080400-1797094800@www.angelverein-zeuthen.de
SUMMARY:Preisskat
DESCRIPTION:
URL:https://www.angelverein-zeuthen.de/veranstaltungen/preisskat-6/
LOCATION:Anglerheim\, Dorfaue 21\, Zeuthen\, 15738\, Deutschland
CATEGORIES:Skatrunde
END:VEVENT
END:VCALENDAR